BEGIN:VCALENDAR
VERSION:2.0
PRODID:-//Free State Festival - ECPv5.7.0//NONSGML v1.0//EN
CALSCALE:GREGORIAN
METHOD:PUBLISH
X-WR-CALNAME:Free State Festival
X-ORIGINAL-URL:https://freestatefestival.org
X-WR-CALDESC:Events for Free State Festival
BEGIN:VTIMEZONE
TZID:America/Chicago
BEGIN:DAYLIGHT
TZOFFSETFROM:-0600
TZOFFSETTO:-0500
TZNAME:CDT
DTSTART:20230312T080000
END:DAYLIGHT
BEGIN:STANDARD
TZOFFSETFROM:-0500
TZOFFSETTO:-0600
TZNAME:CST
DTSTART:20231105T070000
END:STANDARD
END:VTIMEZONE
BEGIN:VEVENT
DTSTART;TZID=America/Chicago:20230630T193000
DTEND;TZID=America/Chicago:20230630T213000
DTSTAMP:20260421T193759
CREATED:20230509T032032Z
LAST-MODIFIED:20230630T163018Z
UID:2594-1688153400-1688160600@freestatefestival.org
SUMMARY:CONVERGE: Dance Performance
DESCRIPTION:An evening of new work by five nationally recognized choreographers produced by Tristian Griffin Dance Company and Regina Klenjoski Dance Company! \nABOUT THE PERFORMANCE:\nTristian Griffin Dance Company and Regina Klenjoski Dance Company join forces to produce a dance performance of new choreographic works. Both companies integrate themselves into one entity that serves the purpose of broadening the American scope of contemporary dance repertoire in the Midwest  to create new work. With the goal of exposing the Midwest to diverse high caliber contemporary dance\, Regina and Tristian have commissioned choreographic voices Chad Michael Hall\, Sabrina Vasquez\, and Gary Abbott and the project will tour to Wichita\, Lawrence\, and Kansas City. In addition to the performances\, the project will invite the community in through lectures and demonstrations\, workshop classes where students can learn excerpts of the premiered works\, free public preview showings\, and audience talkbacks in each city. \nCLICK HERE FOR DIGITAL PROGRAM
URL:https://freestatefestival.org/event/converge/
LOCATION:Lawrence Arts Center\, 940 New Hampshire St\, Lawrence\, KS\, 66044\, United States
CATEGORIES:Art
END:VEVENT
END:VCALENDAR