BEGIN:VCALENDAR
VERSION:2.0
PRODID:-//Free State Festival - ECPv5.7.0//NONSGML v1.0//EN
CALSCALE:GREGORIAN
METHOD:PUBLISH
X-WR-CALNAME:Free State Festival
X-ORIGINAL-URL:https://freestatefestival.org
X-WR-CALDESC:Events for Free State Festival
BEGIN:VTIMEZONE
TZID:America/Chicago
BEGIN:DAYLIGHT
TZOFFSETFROM:-0600
TZOFFSETTO:-0500
TZNAME:CDT
DTSTART:20250309T080000
END:DAYLIGHT
BEGIN:STANDARD
TZOFFSETFROM:-0500
TZOFFSETTO:-0600
TZNAME:CST
DTSTART:20251102T070000
END:STANDARD
END:VTIMEZONE
BEGIN:VEVENT
DTSTART;TZID=America/Chicago:20250118T190000
DTEND;TZID=America/Chicago:20250118T210000
DTSTAMP:20260419T094125
CREATED:20241206T144801Z
LAST-MODIFIED:20241206T144801Z
UID:3864-1737226800-1737234000@freestatefestival.org
SUMMARY:An Evening with Gianmarco Soresi
DESCRIPTION:A Night of Live Comedy on the Lawrence Arts Center Main Stage! \nABOUT THE ARTIST \nGianmarco Soresi is a New York based stand-up comedian\, actor\, and creator known for his sharp societal observation and spry\, energetic stage presence. Gianmarco effortlessly commands a room with his animated style\, blending upbeat candor with dark comedic beats – which has garnered him critical acclaim from NPR\, Esquire\, The Atlantic\, Buzzfeed\, ABC News\, and many more. \nHe’s performed stand-up on The Late Late Show with James Corden\, Comedy Central\, Don’t Tell\, The Real Housewives of New York\, and was selected as a JFL New Face in 2022. Gianmarco has also acted in Billy Crystal’s Here Today\, Netflix’s Bonding\, Hustlers\, The Last OG\, and is the host of the popular podcast\, “The Downside with Gianmarco Soresi.”
URL:https://freestatefestival.org/event/gianmarco-soresi/
LOCATION:Lawrence Arts Center\, 940 New Hampshire St\, Lawrence\, KS\, 66044\, United States
CATEGORIES:Ideas
END:VEVENT
END:VCALENDAR